BEGIN:VCALENDAR
VERSION:2.0
PRODID:-//ChamberMaster//Event Calendar 2.0//EN
METHOD:PUBLISH
X-PUBLISHED-TTL:P3D
REFRESH-INTERVAL:P3D
CALSCALE:GREGORIAN
BEGIN:VEVENT
DTSTART;VALUE=DATE:20161002
DTEND;VALUE=DATE:20161003
TRANSP:TRANSPARENT
X-MICROSOFT-CDO-ALLDAYEVENT:TRUE
SUMMARY:At the Historic theater watch Equity
DESCRIPTION:An investment banker (Anna Gunn)\, fighting to rise to the top of the corporate ladder at a competitive Wall Street firm\, navigates a controversial tech IPO in the post-financial crisis world. A world where loyalties are suspect\, regulations are tight\, but pressure to bring in "big money" remains high. Directed\, written\, produced\, and financed by women\, a collaboration among women in entertainment and business leaders in finance the real-life women of Wall Street who chose to invest in this film because they wanted to see their story told.
X-ALT-DESC;FMTTYPE=text/html:An investment banker (Anna Gunn)\, fighting to rise to the top of the corporate ladder at a competitive Wall Street firm\, navigates a controversial tech IPO in the post-financial crisis world. A world where loyalties are suspect\, regulations are tight\, but pressure to bring in &ldquo\;big money&rdquo\; remains high. Directed\, written\, produced\, and financed by women\, a collaboration among women in entertainment and business leaders in finance&mdash\;the real-life women of Wall Street&mdash\;who chose to invest in this film because they wanted to see their story told.
LOCATION:The Historic Theater 28 Chestnut Street Portsmouth\, NH 03801
UID:e.1659.25896
SEQUENCE:3
DTSTAMP:20260422T004337Z
URL:https://business.portsmouthchamber.org/events/details/at-the-historic-theater-watch-equity-10-02-2016-25896
END:VEVENT

END:VCALENDAR
