BEGIN:VCALENDAR
VERSION:2.0
PRODID:-//ChamberMaster//Event Calendar 2.0//EN
METHOD:PUBLISH
X-PUBLISHED-TTL:P3D
REFRESH-INTERVAL:P3D
CALSCALE:GREGORIAN
BEGIN:VEVENT
DTSTART;VALUE=DATE:20161007
DTEND;VALUE=DATE:20161010
TRANSP:TRANSPARENT
X-MICROSOFT-CDO-ALLDAYEVENT:TRUE
SUMMARY:At the Historic Theater watch Indignation
DESCRIPTION:Based on Philip Roth's late novel\, Indignation takes place in 1951\, as Marcus Messner (Logan Lerman)\, a brilliant working class Jewish boy from Newark\, New Jersey\, travels on scholarship to a small\, conservative college in Ohio\, thus exempting him from being drafted into the Korean War. But once there\, Marcus's growing infatuation with his beautiful classmate Olivia Hutton (Sarah Gadon)\, and his clashes with the college's imposing Dean (Tracy Letts)\, put his and his family's best laid plans to the ultimate test.
X-ALT-DESC;FMTTYPE=text/html:Based on Philip Roth&rsquo\;s late novel\, Indignation takes place in 1951\, as Marcus Messner (Logan Lerman)\, a brilliant working class Jewish boy from Newark\, New Jersey\, travels on scholarship to a small\, conservative college in Ohio\, thus exempting him from being drafted into the Korean War. But once there\, Marcus&rsquo\;s growing infatuation with his beautiful classmate Olivia Hutton (Sarah Gadon)\, and his clashes with the college&rsquo\;s imposing Dean (Tracy Letts)\, put his and his family&rsquo\;s best laid plans to the ultimate test.
LOCATION:The Historic Theater 28 Chestnut Street Portsmouth\, NH 03801
UID:e.1659.25900
SEQUENCE:3
DTSTAMP:20260421T225343Z
URL:https://business.portsmouthchamber.org/events/details/at-the-historic-theater-watch-indignation-25900
END:VEVENT

END:VCALENDAR
