BEGIN:VCALENDAR
VERSION:2.0
PRODID:-//ChamberMaster//Event Calendar 2.0//EN
METHOD:PUBLISH
X-PUBLISHED-TTL:P3D
REFRESH-INTERVAL:P3D
CALSCALE:GREGORIAN
BEGIN:VEVENT
DTSTART:20170321T230000Z
DTEND:20170322T010000Z
X-MICROSOFT-CDO-ALLDAYEVENT:FALSE
SUMMARY:At the Music Hall's Historic Theater watch Fences
DESCRIPTION:Nominated for four Oscars\, including Best Picture. Denzel Washington directed and stars in this adaptation of August Wilson's Pulitzer Prize-winning play\, which centers on a black garbage collector named Troy Maxson in 1950s Pittsburgh. Bitter that baseball's color barrier was only broken after his own heyday in the Negro Leagues\, Maxson is prone to taking out his frustrations on his loved ones. Both Washington and co-star Viola Davis won Tonys for their performances in the 2010 revival of the play.\n\n\n\nABOUT SHOW & TELL:\n\nProfessional film enthusiast Paul Goodwin puts the "talk" in talkies\, encouraging audiences to speak their minds and hear all about the movies\, their backgrounds\, and even trivia and the latest gossip about the stars. Free to the public after the end credits roll. Complimentary coffee\, courtesy of Carpe Diem!\n\n\n\nABOUT PAUL GOODWIN:\n\nPaul Goodwin\, HeadshotPaul Goodwin\, who whiles away his daytime hours writing a newsletter about investing in Chinese stocks\, has been leading film discussions at The Music Hall for more than 20 years. Paul has been a film nut since well\, since forever. He taught film reviewing at UNH\, wrote reviews for a defunct art weekly and had a radio film reviewing show for years. These days\, except for an occasional trip to the MallPlex 35\, he gets his film nourishment from the rich offerings at The Music Hall\, where you can't beat the combination of great movies and free coffee and popcorn for discussions!
X-ALT-DESC;FMTTYPE=text/html:Nominated for four Oscars\, including Best Picture. Denzel Washington directed and stars in this adaptation of August Wilson&rsquo\;s Pulitzer Prize-winning play\, which centers on a black garbage collector named Troy Maxson in 1950s Pittsburgh. Bitter that baseball&rsquo\;s color barrier was only broken after his own heyday in the Negro Leagues\, Maxson is prone to taking out his frustrations on his loved ones. Both Washington and co-star Viola Davis won Tonys for their performances in the 2010 revival of the play.<br />\n<br />\nABOUT SHOW &amp\; TELL:<br />\nProfessional film enthusiast Paul Goodwin puts the &ldquo\;talk&rdquo\; in talkies\, encouraging audiences to speak their minds and hear all about the movies\, their backgrounds\, and even trivia and the latest gossip about the stars. Free to the public after the end credits roll. Complimentary coffee\, courtesy of Carpe Diem!<br />\n<br />\nABOUT PAUL GOODWIN:<br />\nPaul Goodwin\, HeadshotPaul Goodwin\, who whiles away his daytime hours writing a newsletter about investing in Chinese stocks\, has been leading film discussions at The Music Hall for more than 20 years. Paul has been a film nut since&hellip\;well\, since forever. He taught film reviewing at UNH\, wrote reviews for a defunct art weekly and had a radio film reviewing show for years. These days\, except for an occasional trip to the MallPlex 35\, he gets his film nourishment from the rich offerings at The Music Hall\, where you can&rsquo\;t beat the combination of great movies and free coffee and popcorn for discussions!
LOCATION:The Historic Theater 28 Chestnut Street Portsmouth\, NH
UID:e.1659.30221
SEQUENCE:3
DTSTAMP:20260421T164438Z
URL:https://business.portsmouthchamber.org/events/details/at-the-music-hall-s-historic-theater-watch-fences-30221
END:VEVENT

END:VCALENDAR
