BEGIN:VCALENDAR
VERSION:2.0
PRODID:-//ChamberMaster//Event Calendar 2.0//EN
METHOD:PUBLISH
X-PUBLISHED-TTL:P3D
REFRESH-INTERVAL:P3D
CALSCALE:GREGORIAN
BEGIN:VEVENT
DTSTART:20170219T030000Z
DTEND:20170219T045500Z
X-MICROSOFT-CDO-ALLDAYEVENT:FALSE
SUMMARY:At The Portsmouth Brewery Enjoy $0.50 wings!
DESCRIPTION:Because everyone needs a late night snack from time to time\, we're making wings! Hefty\, meaty chicken wings\, ordered piece-by-piece with your choice of buffalo\, volcano\, bbq and/or hot ale mustard sauce. They're available upstairs\, downstairs\, in the beer garden and in the side room. We'll be your wingman!
X-ALT-DESC;FMTTYPE=text/html:Because everyone needs a late night snack from time to time\, we&#39\;re making wings! Hefty\, meaty chicken wings\, ordered piece-by-piece with your choice of buffalo\, volcano\, bbq and/or hot ale mustard sauce. They&#39\;re available upstairs\, downstairs\, in the beer garden and in the side room. We&#39\;ll be your wingman!
LOCATION:Portsmouth Brewery 56 Market St\, Portsmouth
UID:e.1659.29914
SEQUENCE:3
DTSTAMP:20260421T164441Z
URL:https://business.portsmouthchamber.org/events/details/at-the-portsmouth-brewery-enjoy-0-50-wings-29914
END:VEVENT

END:VCALENDAR
