BEGIN:VCALENDAR
VERSION:2.0
PRODID:-//ChamberMaster//Event Calendar 2.0//EN
METHOD:PUBLISH
X-PUBLISHED-TTL:P3D
REFRESH-INTERVAL:P3D
CALSCALE:GREGORIAN
BEGIN:VEVENT
DTSTART;VALUE=DATE:20170301
DTEND;VALUE=DATE:20170302
TRANSP:TRANSPARENT
X-MICROSOFT-CDO-ALLDAYEVENT:TRUE
SUMMARY:Bad Lab Beer Cocktail Night and Cigar Pairing
DESCRIPTION:Join Bad Lab for a Beer Cocktail Night and Cigar Pairing at Federal cigar.\n\n\nBeer List (as of 2/17/17)\n\n\n	DIPA\n	Coffee Stout\n	White
X-ALT-DESC;FMTTYPE=text/html:Join Bad Lab for a Beer Cocktail Night and Cigar Pairing at Federal cigar.\n<p style="border: 0px\; margin: 0px 0px 9px\; padding: 0px\; box-sizing: border-box\; color: rgb(77\, 77\, 77)\; font-family: &quot\;Helvetica Neue&quot\;\, Helvetica\, Arial\, sans-serif\; font-size: 12px\;"><br />\nBeer List (as of 2/17/17)</p>\n\n<ul style="border: 0px\; margin: 0px 0px 9px\; padding-right: 0px\; padding-left: 0px\; list-style: none\; box-sizing: border-box\; line-height: 18px\; color: rgb(77\, 77\, 77)\; font-family: &quot\;Helvetica Neue&quot\;\, Helvetica\, Arial\, sans-serif\; font-size: 12px\;">\n	<li style="border: 0px\; font-style: inherit\; font-weight: inherit\; margin: 0px 0px 0px 1.6em\; padding: 0px\; box-sizing: border-box\; list-style: disc\;">DIPA</li>\n	<li style="border: 0px\; font-style: inherit\; font-weight: inherit\; margin: 0px 0px 0px 1.6em\; padding: 0px\; box-sizing: border-box\; list-style: disc\;">Coffee Stout</li>\n	<li style="border: 0px\; font-style: inherit\; font-weight: inherit\; margin: 0px 0px 0px 1.6em\; padding: 0px\; box-sizing: border-box\; list-style: disc\;">White</li>\n</ul>\n
LOCATION:Federal Cigar 36 Market St\, Portsmouth
UID:e.1659.30033
SEQUENCE:3
DTSTAMP:20260421T150650Z
URL:https://business.portsmouthchamber.org/events/details/bad-lab-beer-cocktail-night-and-cigar-pairing-30033
END:VEVENT

END:VCALENDAR
