BEGIN:VCALENDAR
VERSION:2.0
PRODID:-//ChamberMaster//Event Calendar 2.0//EN
METHOD:PUBLISH
X-PUBLISHED-TTL:P3D
REFRESH-INTERVAL:P3D
CALSCALE:GREGORIAN
BEGIN:VEVENT
DTSTART:20170227T220000Z
DTEND:20170228T020000Z
X-MICROSOFT-CDO-ALLDAYEVENT:FALSE
SUMMARY:Bad Lab Restaurant Pop up with Chef Evan Hennessey at Moxy Restaurant
DESCRIPTION:Join Bad Lab Restaurant and Chef Evan Hennessey @ Moxy Restaurant for a tap takeover as well as a kitchen take over with an a la cart menu with items off of our Bad Lab's menu in Somersworth.\n\n\n\nBeer List\n\n	White Ale\n	Pale Ale\n	Coffee Stout\n	Strong Scotch\n	DIPA\n	IPA
X-ALT-DESC;FMTTYPE=text/html:Join Bad Lab Restaurant and Chef Evan Hennessey @ Moxy Restaurant for a tap takeover as well as a kitchen take over with an a la cart menu with items off of our Bad Lab&rsquo\;s menu in Somersworth.<br />\n<br />\nBeer List\n<ul>\n	<li>White Ale</li>\n	<li>Pale Ale</li>\n	<li>Coffee Stout</li>\n	<li>Strong Scotch</li>\n	<li>DIPA</li>\n	<li>IPA</li>\n</ul>\n
LOCATION:Moxy 106 Penhallow St\, Portsmouth
UID:e.1659.30030
SEQUENCE:3
DTSTAMP:20260421T163640Z
URL:https://business.portsmouthchamber.org/events/details/bad-lab-restaurant-pop-up-with-chef-evan-hennessey-at-moxy-restaurant-30030
END:VEVENT

END:VCALENDAR
