BEGIN:VCALENDAR
VERSION:2.0
PRODID:-//ChamberMaster//Event Calendar 2.0//EN
METHOD:PUBLISH
X-PUBLISHED-TTL:P3D
REFRESH-INTERVAL:P3D
CALSCALE:GREGORIAN
BEGIN:VEVENT
DTSTART:20131018T113000Z
DTEND:20131018T130000Z
X-MICROSOFT-CDO-ALLDAYEVENT:FALSE
SUMMARY:Bank of America Breakfast Merrill Lynch: Meet the City Council Candidates - Part 3!
DESCRIPTION:Part three of three.
X-ALT-DESC;FMTTYPE=text/html:Part three of three.
LOCATION:Seacoast Media Group 111 New Hampshire Ave Portsmouth\, NH 03801
UID:e.1659.593
SEQUENCE:3
DTSTAMP:20260420T073803Z
URL:https://business.portsmouthchamber.org/events/details/bank-of-america-breakfast-merrill-lynch-meet-the-city-council-candidates-part-3-10-18-2013-593
END:VEVENT

END:VCALENDAR
