BEGIN:VCALENDAR
VERSION:2.0
PRODID:-//ChamberMaster//Event Calendar 2.0//EN
METHOD:PUBLISH
X-PUBLISHED-TTL:P3D
REFRESH-INTERVAL:P3D
CALSCALE:GREGORIAN
BEGIN:VEVENT
DTSTART:20140121T123000Z
DTEND:20140121T140000Z
X-MICROSOFT-CDO-ALLDAYEVENT:FALSE
SUMMARY:Bank of America Breakfast Series: Locally Protecting Marine Animals
DESCRIPTION:Governor Maggie Hassan will Announce The Seacoast Science Center's authorization by John Bullard\, Northeast Region Administrator of the National Marine Fisheries Service to lead New Hampshire's marine mammal rescue effort\, effective January 1\, 2014. The Center's Marine Mammal Rescue Team responds to stranded\, injured and diseased seals\, whales\, porpoises\, and dolphins in NH's coastal region.
X-ALT-DESC;FMTTYPE=text/html:<span style="font-family:tahoma\;"><span style="font-size:14px\;">Governor Maggie Hassan&nbsp\;will Announce The Seacoast Science Center&#39\;s authorization by&nbsp\;John Bullard\, <em>Northeast Region Administrator</em> of the&nbsp\;National Marine Fisheries Service to lead New Hampshire&#39\;s marine mammal rescue effort\, effective January 1\, 2014. The Center&#39\;s Marine Mammal Rescue Team responds to stranded\, injured and diseased seals\, whales\, porpoises\, and dolphins in NH&#39\;s coastal region.</span></span><br />\n<br />\n<br />\n<br />\n
LOCATION:Sheraton Portsmouth Harborside Hotel
UID:e.1659.813
SEQUENCE:3
DTSTAMP:20260420T031952Z
URL:https://business.portsmouthchamber.org/events/details/bank-of-america-breakfast-series-locally-protecting-marine-animals-01-21-2014-813
END:VEVENT

END:VCALENDAR
