BEGIN:VCALENDAR
VERSION:2.0
PRODID:-//ChamberMaster//Event Calendar 2.0//EN
METHOD:PUBLISH
X-PUBLISHED-TTL:P3D
REFRESH-INTERVAL:P3D
CALSCALE:GREGORIAN
BEGIN:VEVENT
DTSTART:20140422T113000Z
DTEND:20140422T130000Z
X-MICROSOFT-CDO-ALLDAYEVENT:FALSE
SUMMARY:Bank of America Merrill Lynch Breakfast: State of the State
DESCRIPTION:Governor Maggie Hassan will be discussing education\, Medicaid\, and pay equity.
X-ALT-DESC;FMTTYPE=text/html:<span style="font-size:14px\;"><span style="font-family:arial\;">Governor Maggie Hassan&nbsp\;will be discussing&nbsp\;</span>education\, Medicaid\, and pay equity.</span>
LOCATION:Sheraton Portsmouth Harborside Hotel
UID:e.1659.1473
SEQUENCE:3
DTSTAMP:20260419T231710Z
URL:https://business.portsmouthchamber.org/events/details/bank-of-america-merrill-lynch-breakfast-state-of-the-state-04-22-2014-1473
END:VEVENT

END:VCALENDAR
