BEGIN:VCALENDAR
VERSION:2.0
PRODID:-//ChamberMaster//Event Calendar 2.0//EN
METHOD:PUBLISH
X-PUBLISHED-TTL:P3D
REFRESH-INTERVAL:P3D
CALSCALE:GREGORIAN
BEGIN:VEVENT
DTSTART:20140814T213000Z
DTEND:20140815T003000Z
X-MICROSOFT-CDO-ALLDAYEVENT:FALSE
SUMMARY:Barre & Soul VIP Open House Event
DESCRIPTION:VIP exclusive event at the Barre. Barre & Soul is opening a new yoga studio in Portsmouth August 16th. Join them on August 14th for a sneak preview including a complimentary class!
X-ALT-DESC;FMTTYPE=text/html:VIP exclusive event at the Barre. Barre &amp\; Soul is opening a new yoga studio in Portsmouth August 16th. Join them on August 14th for a sneak preview including a complimentary class!
LOCATION:163 Court Street Portsmouth\, NH
UID:e.1659.2942
SEQUENCE:3
DTSTAMP:20260419T175210Z
URL:https://business.portsmouthchamber.org/events/details/barre-soul-vip-open-house-event-08-14-2014-2942
END:VEVENT

END:VCALENDAR
