BEGIN:VCALENDAR
VERSION:2.0
PRODID:-//ChamberMaster//Event Calendar 2.0//EN
METHOD:PUBLISH
X-PUBLISHED-TTL:P3D
REFRESH-INTERVAL:P3D
CALSCALE:GREGORIAN
BEGIN:VEVENT
DTSTART:20141108T153000Z
DTEND:20141108T170000Z
X-MICROSOFT-CDO-ALLDAYEVENT:FALSE
SUMMARY:Beach Cleanup at Jenness Beach
DESCRIPTION:Join Blue Ocean Society for Marine Conservation for our monthly beach cleanup at Jenness Beach! We'll help the environment\, make the beach a prettier place\, and collect data on our findings so we can learn about marine pollution on our beaches.\n\n\n\nAll supplies will be provided. Volunteers are asked to bring their own work gloves if possible.\n\n\n\nFamilies\, individuals and small groups are all welcome! \n\n\n\nTo sign up\, email info@blueoceansociety.org or call 603-431-0260 .
X-ALT-DESC;FMTTYPE=text/html:<span style="color: rgb(20\, 24\, 35)\; font-family: Helvetica\, Arial\, 'lucida grande'\, tahoma\, verdana\, arial\, sans-serif\; font-size: 14px\; line-height: 17.9200000762939px\;">Join Blue Ocean Society for Marine Conservation for our monthly beach cleanup at Jenness Beach! We&#39\;ll help the environment\, make the beach a prettier place\, and collect data on our findings so we can learn about marine pollution on our beaches.</span><br style="color: rgb(20\, 24\, 35)\; font-family: Helvetica\, Arial\, 'lucida grande'\, tahoma\, verdana\, arial\, sans-serif\; font-size: 14px\; line-height: 17.9200000762939px\;" />\n<br style="color: rgb(20\, 24\, 35)\; font-family: Helvetica\, Arial\, 'lucida grande'\, tahoma\, verdana\, arial\, sans-serif\; font-size: 14px\; line-height: 17.9200000762939px\;" />\n<span style="color: rgb(20\, 24\, 35)\; font-family: Helvetica\, Arial\, 'lucida grande'\, tahoma\, verdana\, arial\, sans-serif\; font-size: 14px\; line-height: 17.9200000762939px\;">All supplies will be provided. Volunteers are asked to bring their own work gloves if possible.</span><br style="color: rgb(20\, 24\, 35)\; font-family: Helvetica\, Arial\, 'lucida grande'\, tahoma\, verdana\, arial\, sans-serif\; font-size: 14px\; line-height: 17.9200000762939px\;" />\n<br style="color: rgb(20\, 24\, 35)\; font-family: Helvetica\, Arial\, 'lucida grande'\, tahoma\, verdana\, arial\, sans-serif\; font-size: 14px\; line-height: 17.9200000762939px\;" />\n<span style="color: rgb(20\, 24\, 35)\; font-family: Helvetica\, Arial\, 'lucida grande'\, tahoma\, verdana\, arial\, sans-serif\; font-size: 14px\; line-height: 17.9200000762939px\;">Families\, individuals and small groups are all welcome!&nbsp\;</span><br style="color: rgb(20\, 24\, 35)\; font-family: Helvetica\, Arial\, 'lucida grande'\, tahoma\, verdana\, arial\, sans-serif\; font-size: 14px\; line-height: 17.9200000762939px\;" />\n<br style="color: rgb(20\, 24\, 35)\; font-family: Helvetica\, Arial\, 'lucida grande'\, tahoma\, verdana\, arial\, sans-serif\; font-size: 14px\; line-height: 17.9200000762939px\;" />\n<span style="color: rgb(20\, 24\, 35)\; font-family: Helvetica\, Arial\, 'lucida grande'\, tahoma\, verdana\, arial\, sans-serif\; font-size: 14px\; line-height: 17.9200000762939px\;">To sign up\, email info@blueoceansociety.org or call 603-431-0260 .</span>
LOCATION:Jenness State Beach\, Route 1A\, Rye\, NH
UID:e.1659.3468
SEQUENCE:3
DTSTAMP:20260419T130943Z
URL:https://business.portsmouthchamber.org/events/details/beach-cleanup-at-jenness-beach-11-08-2014-3468
END:VEVENT

END:VCALENDAR
