BEGIN:VCALENDAR
VERSION:2.0
PRODID:-//ChamberMaster//Event Calendar 2.0//EN
METHOD:PUBLISH
X-PUBLISHED-TTL:P3D
REFRESH-INTERVAL:P3D
CALSCALE:GREGORIAN
BEGIN:VEVENT
DTSTART;VALUE=DATE:20161204
DTEND;VALUE=DATE:20161205
TRANSP:TRANSPARENT
X-MICROSOFT-CDO-ALLDAYEVENT:TRUE
SUMMARY:Ogunquit Playhouse Prodcution of the Beauty and the Beast
DESCRIPTION:The holidays are the perfect time to enjoy this enchanting classic fairytale! Be swept into the romantic story of the Beast who could only be saved by love in this lavish Ogunquit Playhouse production based on the Academy Award-winning film. This eye-popping spectacle comes to life with unforgettable characters\, stunning sets and costumes\, and dazzling production numbers\, set to a score by Alan Menken and the late Howard Ashman along with new songs by Mr. Menken and Tim Rice. Beauty and the Beast has won the hearts of millions of people worldwide\, running for 13 years on Broadway and earning nine Tony nominations\, including Best Musical. "Be our guest" for this "tale as old as time\," the musical for all generations.\n\nThe classic story tells of Belle\, a young woman in a provincial town\, and the Beast\, who is really a young prince trapped under the spell of an enchantress. If the Beast can learn to love and be loved\, the curse will end and he will be transformed back to his former self. But time is running out. If the Beast does not learn his lesson soon\, he and his household will be doomed for all eternity.\n\nContent Advisory: G - Suitable for all ages. (There is no official rating system for live theatre. We encourage you to use your judgment based on your child's age and maturity level.)
X-ALT-DESC;FMTTYPE=text/html:<p>The holidays are the perfect time to enjoy this enchanting classic fairytale! Be swept into the romantic story of the Beast who could only be saved by love in this lavish Ogunquit Playhouse production based on the Academy Award-winning film. This eye-popping spectacle comes to life with unforgettable characters\, stunning sets and costumes\, and dazzling production numbers\, set to a score by Alan Menken and the late Howard Ashman along with new songs by Mr. Menken and Tim Rice.&nbsp\;<em>Beauty and the Beast</em>&nbsp\;has won the hearts of millions of people worldwide\, running for 13 years on Broadway and earning nine Tony nominations\, including Best Musical. &ldquo\;Be our guest&rdquo\; for this &ldquo\;tale as old as time\,&rdquo\; the musical for all generations.</p>\n\n<p>The classic story tells of Belle\, a young woman in a provincial town\, and the Beast\, who is really a young prince trapped under the spell of an enchantress. If the Beast can learn to love and be loved\, the curse will end and he will be transformed back to his former self. But time is running out. If the Beast does not learn his lesson soon\, he and his household will be doomed for all eternity.</p>\n\n<p><strong>Content Advisory</strong>: G - Suitable for all ages. (There is no official rating system for live theatre. We encourage you to use your judgment based on your child&#39\;s age and maturity level.)</p>\n
LOCATION:The Music Hall 28 Chestnut St. Portsmouth\, NH 03801
UID:e.1659.19853
SEQUENCE:3
DTSTAMP:20260421T193002Z
URL:https://business.portsmouthchamber.org/events/details/beauty-and-the-beast-12-04-2016-19853
END:VEVENT

END:VCALENDAR
