BEGIN:VCALENDAR
VERSION:2.0
PRODID:-//ChamberMaster//Event Calendar 2.0//EN
METHOD:PUBLISH
X-PUBLISHED-TTL:P3D
REFRESH-INTERVAL:P3D
CALSCALE:GREGORIAN
BEGIN:VEVENT
DTSTART:20260328T230000Z
DTEND:20260329T020000Z
X-MICROSOFT-CDO-ALLDAYEVENT:FALSE
SUMMARY:Bedford Big Band
DESCRIPTION:The Bedford Big Band\, directed by Karen Sayward\, is a New Hampshire favorite with nearly three decades of performances across New England. Their repertoire spans iconic Swing Era classics\, beloved jazz standards\, and select modern pop\, funk\, and Latin favorites.\n\nKick off the evening with a beginner Foxtrot lesson led by Bob Yergeau\, former owner of the Rockingham Ballroom\, to get you gliding across the dance floor with confidence!\n\n\n\nDoors open at 7:00 pm\n\nTickets: $20.00 advanced & $25.00 at the door\n\nYou can bring your beverage of choice (BYOB) and we provide a healthy light menu to snack on\, for purchase. Seltzers\, sodas and mixers also available. (No "bar" tab.) We have both cafe and lounge seating\, and a game room. All ages and abilities are welcome!\n\nLooking for a venue for your next event? The Rockingham Ballroom is available for Private Parties\, Events\, Classes\, and Weddings. Our event center is 8\,500 sq. feet. The 4000 square foot floating wood floor is the only such dance floor in New England. Located in Newmarket\, NH and only 15 minutes from Portsmouth\, Exeter\, or Durham.\n\nFor more information on booking events the ballroom\, please email info@rockinballroom.club
X-ALT-DESC;FMTTYPE=text/html:<p>The<strong>&nbsp\;<a href="https://bedfordbigband.com/" rel="noopener noreferrer nofollow" style="box-sizing: border-box\; cursor: pointer\; color: rgb(51\, 116\, 255)\;" target="_blank">Bedford Big Band</a></strong>\, directed by Karen Sayward\, is a New Hampshire favorite with nearly three decades of performances across New England. Their repertoire spans iconic Swing Era classics\, beloved jazz standards\, and select modern pop\, funk\, and Latin favorites.</p>\n\n<p><!-- x-tinymce/html -->Kick off the evening with a beginner Foxtrot lesson led by Bob Yergeau\, former owner of the Rockingham Ballroom\, to get you gliding across the dance floor with confidence!<br />\n<br />\nDoors open at 7:00 pm</p>\n\n<p>Tickets: $20.00 advanced &amp\; $25.00 at the door</p>\n\n<p>You can bring your beverage of choice (BYOB) and we provide a healthy light menu to snack on\, for purchase. Seltzers\, sodas and mixers also available. (No &ldquo\;bar&rdquo\; tab.) We have both cafe and lounge seating\, and a game room. All ages and abilities are welcome!</p>\n\n<p>Looking for a venue for your next event? The Rockingham Ballroom is available for Private Parties\, Events\, Classes\, and Weddings. Our event center is 8\,500 sq. feet. The 4000 square foot floating wood floor is the only such dance floor in New England. Located in Newmarket\, NH and only 15 minutes from Portsmouth\, Exeter\, or Durham.</p>\n\n<p>For more information on booking events the ballroom\, please email info@rockinballroom.club</p>\n
LOCATION:Rockingham Ballroom 22 Ash Swamp Road Newmarket\, NH
UID:e.1659.89280
SEQUENCE:3
DTSTAMP:20260423T070414Z
URL:https://business.portsmouthchamber.org/events/details/bedford-big-band-89280
END:VEVENT

END:VCALENDAR
