BEGIN:VCALENDAR
VERSION:2.0
PRODID:-//ChamberMaster//Event Calendar 2.0//EN
METHOD:PUBLISH
X-PUBLISHED-TTL:P3D
REFRESH-INTERVAL:P3D
CALSCALE:GREGORIAN
BEGIN:VEVENT
DTSTART:20160109T010000Z
DTEND:20160109T030000Z
X-MICROSOFT-CDO-ALLDAYEVENT:FALSE
SUMMARY:Best of the Boston Comedy Festival
DESCRIPTION:The Best of Boston Comedy Festival with Jody Sloane\, Al Park\, Steve Bjork \n\n\n\nFor the past fifteen years Jody has honed her skills as a "sit down" comic working as a "Conducktor" for Boston Duck Tours. She created and developed her tour guide persona\; Penny Wise\, a tongue-in-cheek\, saucy\, southern belle. She has performed before an audience over 4000 times and still packs a fresh punch! \n\n\n\nSeven years ago Jody took a "stand" bringing her act to venues throughout New England. She has been a three time contestant in the Boston Comedy Festival\, performed in the Laugh Your Asheville Off Festival and was a Finalist in the Funniest Comic in New Hampshire Contest. Impishly perverse\, her style is thoughtful\, yet edgy\; touching on age\, divorce\, and being raised by wolves. She'll have you convinced that in the darkest corners of truth is comedy.
X-ALT-DESC;FMTTYPE=text/html:The Best of Boston Comedy Festival with Jody Sloane\, Al Park\, Steve Bjork&nbsp\;<br />\n<br />\nFor the past fifteen years Jody has honed her skills as a &ldquo\;sit down&rdquo\; comic working as a &ldquo\;Conducktor&rdquo\; for Boston Duck Tours. She created and developed her tour guide persona\; Penny Wise\, a tongue-in-cheek\, saucy\, southern belle. She has performed before an audience over 4000 times and still packs a fresh punch!&nbsp\;<br />\n<br />\nSeven years ago Jody took a &ldquo\;stand&rdquo\; bringing her act to venues throughout New England. She has been a three time contestant in the Boston Comedy Festival\, performed in the Laugh Your Asheville Off Festival and was a Finalist in the Funniest Comic in New Hampshire Contest. Impishly perverse\, her style is thoughtful\, yet edgy\; touching on age\, divorce\, and being raised by wolves. She&rsquo\;ll have you convinced that in the darkest corners of truth is comedy.
LOCATION:Seacoast Rep 125 Bow Street\, Portsmouth
UID:e.1659.13395
SEQUENCE:3
DTSTAMP:20260420T120202Z
URL:https://business.portsmouthchamber.org/events/details/best-of-the-boston-comedy-festival-01-08-2016-13395
END:VEVENT

END:VCALENDAR
