BEGIN:VCALENDAR
VERSION:2.0
PRODID:-//ChamberMaster//Event Calendar 2.0//EN
METHOD:PUBLISH
X-PUBLISHED-TTL:P3D
REFRESH-INTERVAL:P3D
CALSCALE:GREGORIAN
BEGIN:VEVENT
DTSTART:20160319T210000Z
DTEND:20160320T000000Z
X-MICROSOFT-CDO-ALLDAYEVENT:FALSE
SUMMARY:Big Picture: Opening Reception
DESCRIPTION:For three days in March (March 16-March 19)\, 3S Artspace is handing over its gallery walls to 5 muralists from across the Northeast. Our 1\,600 square foot space is primed\, painted and waiting for the participating artists to each compose a roughly 20' x 25' painting without restrictions on material or subject matter.\n\n\n\nParticipating artists include:\n\n\n\nScott Albrecht\, New York\, NY \n\nPeter Flynn Donovan\, South Berwick\, ME \n\nPat Falco\, Boston\, MA \n\nKaren Gelardi\, Portland\, ME \n\nTessa Greene O'Brien\, Portland\, ME\n\n\n\nDuring gallery hours\, installation will be open to the public\, offering our community a look at what it takes to craft original artwork of this scale. The work will be celebrated with an opening reception\, scheduled to correspond with the one-year anniversary of 3S Artspace.
X-ALT-DESC;FMTTYPE=text/html:For three days in March (March 16-March 19)\, 3S Artspace is handing over its gallery walls to 5 muralists from across the Northeast. Our 1\,600 square foot space is primed\, painted and waiting for the participating artists to each compose a roughly 20&#39\; x 25&#39\; painting without restrictions on material or subject matter.<br />\n<br />\nParticipating artists include:<br />\n<br />\nScott Albrecht\, New York\, NY&nbsp\;<br />\nPeter Flynn Donovan\, South Berwick\, ME&nbsp\;<br />\nPat Falco\, Boston\, MA&nbsp\;<br />\nKaren Gelardi\, Portland\, ME&nbsp\;<br />\nTessa Greene O&#39\;Brien\, Portland\, ME<br />\n<br />\nDuring gallery hours\, installation will be open to the public\, offering our community a look at what it takes to craft original artwork of this scale. The work will be celebrated with an opening reception\, scheduled to correspond with the one-year anniversary of 3S Artspace.
LOCATION:3S Artspace 319 Vaughan Street\, Portsmouth
UID:e.1659.17899
SEQUENCE:3
DTSTAMP:20260420T144854Z
URL:https://business.portsmouthchamber.org/events/details/big-picture-opening-reception-03-19-2016-17899
END:VEVENT

END:VCALENDAR
