BEGIN:VCALENDAR
VERSION:2.0
PRODID:-//ChamberMaster//Event Calendar 2.0//EN
METHOD:PUBLISH
X-PUBLISHED-TTL:P3D
REFRESH-INTERVAL:P3D
CALSCALE:GREGORIAN
BEGIN:VEVENT
DTSTART;VALUE=DATE:20140920
DTEND;VALUE=DATE:20140921
TRANSP:TRANSPARENT
X-MICROSOFT-CDO-ALLDAYEVENT:TRUE
SUMMARY:BioBlitz at the Seacoast Science Center
DESCRIPTION:BioBlitz is a daylong species scavenger hunt of Odiorne Point State Park\, where families explore alongside scientists and field naturalists to find and record data on as many different species in the Park as possible in one day. Exploration teams will be birding\, searching for insects\, snakes and amphibians\, exploring the freshwater pond and salt marsh\, tracking mammals\, identifying plants and seaweeds\, tide pooling\, and more. BioBlitz is a great way to excite children about science and a rare opportunity to meet so many passionate biologists working together. Help us top our total number of 2\,062 species identified since our first BioBlitz in 2003 and help us grow our valuable catalogue that serves as a snapshot of biodiversity of our region.
X-ALT-DESC;FMTTYPE=text/html:BioBlitz is a daylong species scavenger hunt of Odiorne Point State Park\, where families explore alongside scientists and field naturalists to find and record data on as many different species in the Park as possible in one day. Exploration teams will be birding\, searching for insects\, snakes and amphibians\, exploring the freshwater pond and salt marsh\, tracking mammals\, identifying plants and seaweeds\, tide pooling\, and more. BioBlitz is a great way to excite children about science and a rare opportunity to meet so many passionate biologists working together. Help us top our total number of 2\,062 species identified since our first BioBlitz in 2003 and help us grow our valuable catalogue that serves as a snapshot of biodiversity of our region.
LOCATION:Seacoast Science Center\, 570 Ocean Blvd.\, Rye\, NH
UID:e.1659.2958
SEQUENCE:3
DTSTAMP:20260419T161127Z
URL:https://business.portsmouthchamber.org/events/details/bioblitz-at-the-seacoast-science-center-09-20-2014-2958
END:VEVENT

END:VCALENDAR
