BEGIN:VCALENDAR
VERSION:2.0
PRODID:-//ChamberMaster//Event Calendar 2.0//EN
METHOD:PUBLISH
X-PUBLISHED-TTL:P3D
REFRESH-INTERVAL:P3D
CALSCALE:GREGORIAN
BEGIN:VEVENT
DTSTART:20130921T100000Z
DTEND:20130921T210000Z
X-MICROSOFT-CDO-ALLDAYEVENT:FALSE
SUMMARY:BioBlitz at the Seacoast Science Center
DESCRIPTION:BioBlitz! is a daylong species scavenger hunt of Odiorne Point State Park\, where the public explores alongside scientists and field naturalists to find and record data on as many different species in the Park as possible in one day.
X-ALT-DESC;FMTTYPE=text/html:BioBlitz! is a daylong species scavenger hunt of Odiorne Point State Park\, where the public explores alongside scientists and field naturalists to find and record data on as many different species in the Park as possible in one day. 
LOCATION:Seacoast Science Center
UID:e.1659.544
SEQUENCE:3
DTSTAMP:20260420T090117Z
URL:https://business.portsmouthchamber.org/events/details/bioblitz-at-the-seacoast-science-center-09-21-2013-544
END:VEVENT

END:VCALENDAR
