BEGIN:VCALENDAR
VERSION:2.0
PRODID:-//ChamberMaster//Event Calendar 2.0//EN
METHOD:PUBLISH
X-PUBLISHED-TTL:P3D
REFRESH-INTERVAL:P3D
CALSCALE:GREGORIAN
BEGIN:VEVENT
DTSTART:20130921T230000Z
DTEND:20130922T020000Z
X-MICROSOFT-CDO-ALLDAYEVENT:FALSE
SUMMARY:Birchtree Benefit for Learning: Live Music\, Appetizers\, Silent & Live Auctions to Benefit The Birchtree Center?s Autism Programs
DESCRIPTION:Join us at the Redhook Brewery for live music\, live and silent auctions\, raffles\, appetizers\, and drinks. All proceeds benefit the nonprofit Birchtree Center's educational and therapeutic programs for children and youth with autism and their families. Music by Elijah Clark and Demijohn Music Clan. Live and silent auction items include sports tickets\, jewelry\, salon services\, original artwork\, wine\, chocolate\, restaurant gift cards\, family entertainment packages\, and more. Appetizers will be served\; guests can also sample beers and other beverages from Redhook's cash bar.
X-ALT-DESC;FMTTYPE=text/html:<span style="font-size:14px\;"><span data-sheets-rawvalue="Join us at the Redhook Brewery for live music\, live and silent auctions\, raffles\, appetizers\, and drinks. All proceeds benefit the nonprofit Birchtree Center's educational and therapeutic programs for children and youth with autism and their families. Music by Elijah Clark and Demijohn Music Clan.  Live and silent auction items include sports tickets\, jewelry\, salon services\, original artwork\, wine\, chocolate\, restaurant gift cards\, family entertainment packages\, and more. Appetizers will be served\; guests can also sample beers and other beverages from Redhook's cash bar.  " style="font-family: calibri\, arial\, sans\, sans-serif\; color: rgb(0\, 0\, 0)\;">Join us at the Redhook Brewery for live music\, live and silent auctions\, raffles\, appetizers\, and drinks. All proceeds benefit the nonprofit Birchtree Center&#39\;s educational and therapeutic programs for children and youth with autism and their families. Music by Elijah Clark and Demijohn Music Clan. Live and silent auction items include sports tickets\, jewelry\, salon services\, original artwork\, wine\, chocolate\, restaurant gift cards\, family entertainment packages\, and more. Appetizers will be served\; guests can also sample beers and other beverages from Redhook&#39\;s cash bar. &nbsp\;</span></span>
LOCATION:Redhook Brewery\, 1 Redhook Way\, Portsmouth\, NH
UID:e.1659.572
SEQUENCE:3
DTSTAMP:20260420T084802Z
URL:https://business.portsmouthchamber.org/events/details/birchtree-benefit-for-learning-live-music-appetizers-silent-live-auctions-to-benefit-the-birchtree-center-s-autism-programs-09-21-2013-572
END:VEVENT

END:VCALENDAR
