BEGIN:VCALENDAR
VERSION:2.0
PRODID:-//ChamberMaster//Event Calendar 2.0//EN
METHOD:PUBLISH
X-PUBLISHED-TTL:P3D
REFRESH-INTERVAL:P3D
CALSCALE:GREGORIAN
BEGIN:VEVENT
DTSTART:20140929T210000Z
DTEND:20140929T230000Z
X-MICROSOFT-CDO-ALLDAYEVENT:FALSE
SUMMARY:Biz(NH) Bash
DESCRIPTION:Join BNH and chirp and chillax with the top Family-Owned Businesses\, Top Women-Led Businesses\, Top 100 Private Companies\, Five Fastest Growing Companies\, and 10 Companies to Watch at this fun and productive event! Check out how much fun we're going to have.
X-ALT-DESC;FMTTYPE=text/html:Join BNH and chirp and chillax with the top Family-Owned Businesses\, Top Women-Led Businesses\, Top 100 Private Companies\, Five Fastest Growing Companies\, and 10 Companies to Watch at this fun and productive event! Check out how much fun we&#39\;re going to have.
LOCATION:The Capitol Center for the Arts in Concord 44 S Main Street\, Concord\, NH 03301
UID:e.1659.2100
SEQUENCE:3
DTSTAMP:20260419T160950Z
URL:https://business.portsmouthchamber.org/events/details/biz-nh-bash-09-29-2014-2100
END:VEVENT

END:VCALENDAR
