BEGIN:VCALENDAR
VERSION:2.0
PRODID:-//ChamberMaster//Event Calendar 2.0//EN
METHOD:PUBLISH
X-PUBLISHED-TTL:P3D
REFRESH-INTERVAL:P3D
CALSCALE:GREGORIAN
BEGIN:VEVENT
DTSTART;VALUE=DATE:20161018
DTEND;VALUE=DATE:20161019
TRANSP:TRANSPARENT
X-MICROSOFT-CDO-ALLDAYEVENT:TRUE
SUMMARY:Block Six Presents: Adam Demirjian
DESCRIPTION:"Block Six Presents" is a way to showcase local acts in an intimate setting\, giving patrons the opportunity to drink and eat while enjoying live music. \n\n\n\nAdam Demirjian is an aspiring songwriter who endeavors to ignite and change the way we experience art and music. He invites unbounded risk taking in both the creation of art and in the way we experience it. He regularly performs with Boston's youngest Tom Petty Cover band 'Me in Capris\,' who's debut EP "For Those Who Think You" has has been downloaded 495 times through the web-based application 'Bandcamp\,' with record sales peaking at $425.66. His songwriting has drawn comparisons to the likes of contemporary cult classics such as Orville Sash\, Doogan Nash and Sha Na Na. In his own words\, \n\n\n\n"at the end of the day it's all about the music\, man."\n\n\n\nhttps://meincapris.bandcamp.com
X-ALT-DESC;FMTTYPE=text/html:&quot\;Block Six Presents&quot\; is a way to showcase local acts in an intimate setting\, giving patrons the opportunity to drink and eat while enjoying live music.&nbsp\;<br />\n<br />\nAdam Demirjian is an aspiring songwriter who endeavors to ignite and change the way we experience art and music. He invites unbounded risk taking in both the creation of art and in the way we experience it. He regularly performs with Boston&rsquo\;s youngest Tom Petty Cover band &lsquo\;Me in Capris\,&rsquo\; who&rsquo\;s debut EP &ldquo\;For Those Who Think You&rdquo\; has has been downloaded 495 times through the web-based application &lsquo\;Bandcamp\,&rsquo\; with record sales peaking at $425.66. His songwriting has drawn comparisons to the likes of contemporary cult classics such as Orville Sash\, Doogan Nash and Sha Na Na. In his own words\,&nbsp\;<br />\n<br />\n&ldquo\;at the end of the day it&rsquo\;s all about the music\, man.&rdquo\;<br />\n<br />\nhttps://meincapris.bandcamp.com
LOCATION:319 Vaughan St. Portsmouth\, NH 03801
UID:e.1659.25882
SEQUENCE:3
DTSTAMP:20260421T225021Z
URL:https://business.portsmouthchamber.org/events/details/block-six-presents-adam-demirjian-25882
END:VEVENT

END:VCALENDAR
