BEGIN:VCALENDAR
VERSION:2.0
PRODID:-//ChamberMaster//Event Calendar 2.0//EN
METHOD:PUBLISH
X-PUBLISHED-TTL:P3D
REFRESH-INTERVAL:P3D
CALSCALE:GREGORIAN
BEGIN:VEVENT
DTSTART:20170105T010000Z
DTEND:20170105T030000Z
X-MICROSOFT-CDO-ALLDAYEVENT:FALSE
SUMMARY:Block Six Presents Jim Rioux
DESCRIPTION:In addition to playing in a variety of bands as an accompanist\, Jim Rioux is the co-founder\, with Guy Capecelatro III\, of of the indie rock band Pale Wallace. He has also recorded as a solo instrumental artist under the names They Went On\, Cartwheel\, and Kickstand. His most recent solo project\, Darlings of the Soil\, is the first on which he takes the role as singer/songwriter. Jim lives in Kittery\, ME with his wife\, Amanda\, and retired greyhound\, Duncan\, and teaches creative writing at the University of New Hampshire.
X-ALT-DESC;FMTTYPE=text/html:In addition to playing in a variety of bands as an accompanist\, Jim Rioux is the co-founder\, with Guy Capecelatro III\, of of the indie rock band Pale Wallace. He has also recorded as a solo instrumental artist under the names They Went On\, Cartwheel\, and Kickstand. His most recent solo project\, Darlings of the Soil\, is the first on which he takes the role as singer/songwriter. Jim lives in Kittery\, ME with his wife\, Amanda\, and retired greyhound\, Duncan\, and teaches creative writing at the University of New Hampshire.
LOCATION:Block Six 319 Vaughan St.\, Portsmouth
UID:e.1659.28218
SEQUENCE:3
DTSTAMP:20260421T181807Z
URL:https://business.portsmouthchamber.org/events/details/block-six-presents-jim-rioux-28218
END:VEVENT

END:VCALENDAR
