BEGIN:VCALENDAR
VERSION:2.0
PRODID:-//ChamberMaster//Event Calendar 2.0//EN
METHOD:PUBLISH
X-PUBLISHED-TTL:P3D
REFRESH-INTERVAL:P3D
CALSCALE:GREGORIAN
BEGIN:VEVENT
DTSTART:20140831T190000Z
DTEND:20140831T220000Z
X-MICROSOFT-CDO-ALLDAYEVENT:FALSE
SUMMARY:Blue Grass Concert Featuring The Roys
DESCRIPTION:Carnegie Productions Presents The Roys a Blue Grass artist from Nashville. The concert is an outdoor event on the lawn so bring your chairs and blankets. Show is rain or shine (indoor Pavilion in case of rain). Food & Beverages available.
X-ALT-DESC;FMTTYPE=text/html:Carnegie Productions Presents The Roys a Blue Grass artist from Nashville. The concert is an outdoor event on the lawn so bring your chairs and blankets. Show is rain or shine (indoor Pavilion in case of rain). Food &amp\; Beverages available.
LOCATION:Foster's Clambakes & Catering 5 Axholme Road York Maine
UID:e.1659.2945
SEQUENCE:3
DTSTAMP:20260419T174633Z
URL:https://business.portsmouthchamber.org/events/details/blue-grass-concert-featuring-the-roys-08-31-2014-2945
END:VEVENT

END:VCALENDAR
