BEGIN:VCALENDAR
VERSION:2.0
PRODID:-//ChamberMaster//Event Calendar 2.0//EN
METHOD:PUBLISH
X-PUBLISHED-TTL:P3D
REFRESH-INTERVAL:P3D
CALSCALE:GREGORIAN
BEGIN:VEVENT
DTSTART:20141202T220000Z
DTEND:20141203T003000Z
X-MICROSOFT-CDO-ALLDAYEVENT:FALSE
SUMMARY:Blue Ocean Year-End Celebration
DESCRIPTION:Join us for an evening of fun at the Blue Mermaid Island Grill! We'll be celebrating our work to protect marine mammals in the Gulf of Maine and providing an overview of our goals for 2015. Come meet our staff and volunteers and enjoy free appetizers and a cash bar.
X-ALT-DESC;FMTTYPE=text/html:Join us for an evening of fun at the Blue Mermaid Island Grill! We&#39\;ll be celebrating our work to protect marine mammals in the Gulf of Maine and providing an overview of our goals for 2015. Come meet our staff and volunteers and enjoy free appetizers and a cash bar.&nbsp\;
LOCATION:Blue Mermaid Island Grill\, 409 The Hill (for GPS use 116 High St.)\, Portsmouth\, NH
UID:e.1659.3467
SEQUENCE:3
DTSTAMP:20260419T130557Z
URL:https://business.portsmouthchamber.org/events/details/blue-ocean-year-end-celebration-12-02-2014-3467
END:VEVENT

END:VCALENDAR
