BEGIN:VCALENDAR
VERSION:2.0
PRODID:-//ChamberMaster//Event Calendar 2.0//EN
METHOD:PUBLISH
X-PUBLISHED-TTL:P3D
REFRESH-INTERVAL:P3D
CALSCALE:GREGORIAN
BEGIN:VEVENT
DTSTART:20140821T113000Z
DTEND:20140821T130000Z
X-MICROSOFT-CDO-ALLDAYEVENT:FALSE
SUMMARY:Board Meeting
DESCRIPTION:Monthly Board Meeting
X-ALT-DESC;FMTTYPE=text/html:Monthly Board Meeting
LOCATION:Portsmouth Chamber of Commerce 500 Market St.\, Portsmouth
UID:e.1659.570
SEQUENCE:3
DTSTAMP:20260419T173736Z
URL:https://business.portsmouthchamber.org/events/details/board-meeting-08-21-2014-570
END:VEVENT

END:VCALENDAR
