BEGIN:VCALENDAR
VERSION:2.0
PRODID:-//ChamberMaster//Event Calendar 2.0//EN
METHOD:PUBLISH
X-PUBLISHED-TTL:P3D
REFRESH-INTERVAL:P3D
CALSCALE:GREGORIAN
BEGIN:VEVENT
DTSTART:20260516T040000Z
DTEND:20260517T040000Z
X-MICROSOFT-CDO-ALLDAYEVENT:FALSE
SUMMARY:Books Alive with The Very Hungry Caterpillar
DESCRIPTION:Eric Carle's Very Hungry Caterpillar has an insatiable appetite! But this adorable caterpillar has inspired generations of kids to love reading\, and the museum is excited to welcome him through our Books Alive program. Books Alive seeks to make reading a regular family experience. Museum educators will be reading Carle's bright and beautiful books\, often emphasizing animals and the natural world\, at story times followed by a meet and greet with the friendly costumed Hungry Caterpillar from 10 10:30am during the morning play sessions (9am noon) and from 2 2:30pm during the afternoon play sessions (1 4pm). There will also be a variety of spring and Hungry Caterpillar-inspired literacy\, math\, and creative activities for all guests. Free with museum admission. Books Alive is sponsored by Frisbee Memorial Hospital\, Piscataqua Savings Bank\, Eastern Bank Community Foundation\, Shaheen & Gordon\, P.A.\, and Newburyport Bank. Want to meet the Very Hungry Caterpillar? Simply reserve spots in the museum's morning or afternoon play session that correspond to the date of the Books Alive program you want to join it's included with museum admission and\, as always\, free for Members! Reserve online at https://childrens-museum.org/programs/books-alive/
X-ALT-DESC;FMTTYPE=text/html:<p><span style="background-color:transparent\; font-family:arial\,sans-serif\; font-size:12pt">Eric Carle&rsquo\;s Very Hungry Caterpillar has an insatiable appetite! But this adorable caterpillar has inspired generations of kids to love reading\, and the museum is excited to welcome him through our Books Alive program. Books Alive seeks to make reading a regular family experience. Museum educators will be reading Carle&rsquo\;s bright and beautiful books\, often emphasizing animals and the natural world\, at story times followed by a meet and greet with the friendly costumed Hungry Caterpillar from 10&ndash\;10:30am during the morning play sessions (9am&ndash\;noon) and from 2&ndash\;2:30pm during the afternoon play sessions (1&ndash\;4pm). There will also be a variety of spring and Hungry Caterpillar-inspired literacy\, math\, and creative activities for all guests. Free with museum admission. Books Alive is sponsored by Frisbee Memorial Hospital\, Piscataqua Savings Bank\, Eastern Bank Community Foundation\, Shaheen &amp\; Gordon\, P.A.\, and Newburyport Bank. Want to meet the Very Hungry Caterpillar? Simply reserve spots in the museum&rsquo\;s morning or afternoon play session that correspond to the date of the Books Alive program you want to join&mdash\;it&rsquo\;s included with museum admission and\, as always\, free for Members! Reserve online at </span><a href="https://childrens-museum.org/programs/books-alive/" style="text-decoration-line: none\;"><span style="background-color:transparent\; color:rgb(17\, 85\, 204)\; font-family:arial\,sans-serif\; font-size:12pt">https://childrens-museum.org/programs/books-alive/</span></a><span style="background-color:transparent\; font-family:arial\,sans-serif\; font-size:12pt">&nbsp\;</span></p>\n\n<div>&nbsp\;</div>\n
LOCATION:The Children's Museum of New Hampshire 6 Washington Street Dover\, NH 03820
UID:e.1659.91468
SEQUENCE:3
DTSTAMP:20260423T211940Z
URL:https://business.portsmouthchamber.org/events/details/books-alive-with-the-very-hungry-caterpillar-91468
END:VEVENT

END:VCALENDAR
