BEGIN:VCALENDAR
VERSION:2.0
PRODID:-//ChamberMaster//Event Calendar 2.0//EN
METHOD:PUBLISH
X-PUBLISHED-TTL:P3D
REFRESH-INTERVAL:P3D
CALSCALE:GREGORIAN
BEGIN:VEVENT
DTSTART:20170522T000000Z
DTEND:20170522T020000Z
X-MICROSOFT-CDO-ALLDAYEVENT:FALSE
SUMMARY:The Seacoast Repertory presents: Boston Comedy Festival
DESCRIPTION:Cuzin Richard Entertainment and The Boston Comedy Festival Present Boston Comedy Festival. Featuring Boston-based comedians Kelly McFarland\, Angel Rentas\, and John David. Come see the best laugh-makers that Boston has to offer. Enjoy a drink at our full bar before or during the show! Not suitable for children
X-ALT-DESC;FMTTYPE=text/html:Cuzin Richard Entertainment and The Boston Comedy Festival Present Boston Comedy Festival. Featuring Boston-based comedians Kelly McFarland\, Angel Rentas\, and John David. Come see the best laugh-makers that Boston has to offer. Enjoy a drink at our full bar before or during the show! Not suitable for children
LOCATION:Seacoast Repertory Theatre 125 Bow St\, Portsmouth
UID:e.1659.30516
SEQUENCE:3
DTSTAMP:20260421T115208Z
URL:https://business.portsmouthchamber.org/events/details/boston-comedy-festival-30516
END:VEVENT

END:VCALENDAR
