BEGIN:VCALENDAR
VERSION:2.0
PRODID:-//ChamberMaster//Event Calendar 2.0//EN
METHOD:PUBLISH
X-PUBLISHED-TTL:P3D
REFRESH-INTERVAL:P3D
CALSCALE:GREGORIAN
BEGIN:VEVENT
DTSTART:20161013T210000Z
DTEND:20161014T010000Z
X-MICROSOFT-CDO-ALLDAYEVENT:FALSE
SUMMARY:Bowl-A-Rama host Senh Habitat for Humanity Bowl-A-Thon
DESCRIPTION:A great fun-filled event. Bowl and raise money for affordable housing! Prizes\, food and drinks!
X-ALT-DESC;FMTTYPE=text/html:A great fun-filled event. Bowl and raise money for affordable housing! Prizes\, food and drinks!
LOCATION:Bowl-A-Rama Portsmouth\, NH
UID:e.1659.22389
SEQUENCE:3
DTSTAMP:20260421T225302Z
URL:https://business.portsmouthchamber.org/events/details/bowl-a-rama-host-senh-habitat-for-humanity-bowl-a-thon-22389
END:VEVENT

END:VCALENDAR
