BEGIN:VCALENDAR
VERSION:2.0
PRODID:-//ChamberMaster//Event Calendar 2.0//EN
METHOD:PUBLISH
X-PUBLISHED-TTL:P3D
REFRESH-INTERVAL:P3D
CALSCALE:GREGORIAN
BEGIN:VEVENT
DTSTART;VALUE=DATE:20130914
DTEND;VALUE=DATE:20130915
TRANSP:TRANSPARENT
X-MICROSOFT-CDO-ALLDAYEVENT:TRUE
SUMMARY:BreastCancerStories
DESCRIPTION:The Portsmouth Community Road Race Series (PCRRS) underwritten by Portsmouth Regional Hospital\, is a succession of road races aimed at the cultivation of the health and well-being of the Greater Portsmouth Community.\n\n\n\nThe goal of the series is to attract individuals\, families\, and groups who enjoy participating in community events (not just competitive races).
X-ALT-DESC;FMTTYPE=text/html:<span style="font-family: Georgia\; font-size: small\; ">The Portsmouth Community Road Race Series (PCRRS)&nbsp\;underwritten&nbsp\;by&nbsp\;Portsmouth&nbsp\;Regional&nbsp\;Hospital\,&nbsp\;is a succession of road races aimed at the cultivation of the health and well-being of the Greater Portsmouth Community.</span><br style="font-family: Georgia\; font-size: small\; " />\n<br style="font-family: Georgia\; font-size: small\; " />\n<span style="font-family: Georgia\; font-size: small\; ">The goal of the series is to attract individuals\, families\, and groups who enjoy participating in community events (not just competitive races).</span>
LOCATION:
UID:e.1659.519
SEQUENCE:3
DTSTAMP:20260420T084759Z
URL:https://business.portsmouthchamber.org/events/details/breastcancerstories-09-14-2013-519
END:VEVENT

END:VCALENDAR
