BEGIN:VCALENDAR
VERSION:2.0
PRODID:-//ChamberMaster//Event Calendar 2.0//EN
METHOD:PUBLISH
X-PUBLISHED-TTL:P3D
REFRESH-INTERVAL:P3D
CALSCALE:GREGORIAN
BEGIN:VEVENT
DTSTART:20161215T000000Z
DTEND:20161215T000000Z
X-MICROSOFT-CDO-ALLDAYEVENT:FALSE
SUMMARY:Broadway Bound Raffle Drawing
DESCRIPTION:NYC Theatre Adventure for Two\n\n\n\nRaffle Package Includes:\n\n	Two Tickets to Tony Award Winning "Hamilton   An American Musical"\n	New York City Executive Coach Travel on C&J Bus Lines for two\n	Two Nights at Marriott Marquis in Times Square\n	Dinner at Gallagher's Steakhouse \n	Post-show Coffee & Dessert at Sardi's\n\n$100 per ticket\n\nOnly 170 tickets will be sold!\n\n\n\nWinning ticket will be drawn December 14\, 2016 at 7pm at the Chamber's Holiday Party\, Elixir From Ebenezer.  You do not need to be present to win.\n\n\n\nRaffle Rules and Details:\n\nThe winner will be asked to provide three dates before May 1\, 2017 when they could travel to NYC.  Reservations required\, space available\, holidays excluded.  Weekend dates may not be available.  Gift certificates will be provided for restaurants. \n\n \n\nPre-sale tickets will be mailed after October 20\, 2016 for purchases made before that date.  Winning ticket will be drawn at the Chamber's wine and craft-beer tasting holiday party\, Elixir from Ebenezer\, at the Sheraton Portsmouth Harborside on December 14\, 2016.  Need not be present to win (but it will be a fun party so you should come).
X-ALT-DESC;FMTTYPE=text/html:NYC Theatre Adventure for Two<br />\n<br />\nRaffle Package Includes:\n<ul>\n	<li>Two Tickets to Tony Award Winning&nbsp\;&ldquo\;Hamilton &mdash\; An American Musical&rdquo\;</li>\n	<li>New York City Executive Coach Travel&nbsp\;on C&amp\;J Bus Lines for two</li>\n	<li>Two Nights at Marriott Marquis&nbsp\;in Times Square</li>\n	<li>Dinner at Gallagher&rsquo\;s Steakhouse&nbsp\;</li>\n	<li>Post-show Coffee &amp\; Dessert at Sardi&rsquo\;s</li>\n</ul>\n$100 per ticket<br />\nOnly 170 tickets will be sold!<br />\n<br />\nWinning ticket will be drawn December 14\, 2016 at 7pm&nbsp\;at the Chamber&rsquo\;s Holiday Party\,&nbsp\;Elixir From Ebenezer. &nbsp\;You do not need to be present to win.<br />\n<br />\nRaffle Rules and Details:<br />\nThe winner will be asked to provide three dates before May 1\, 2017 when they could travel to NYC. &nbsp\;Reservations required\, space available\, holidays excluded. &nbsp\;Weekend dates may not be available. &nbsp\;Gift certificates will be provided for restaurants.&nbsp\;<br />\n&nbsp\;<br />\nPre-sale tickets will be mailed after October 20\, 2016 for purchases made before that date. &nbsp\;Winning ticket will be drawn at the Chamber&rsquo\;s wine and craft-beer tasting holiday party\, Elixir from Ebenezer\, at the Sheraton Portsmouth Harborside on December 14\, 2016. &nbsp\;Need not be present to win (but it will be a fun party so you should come).
LOCATION:
UID:e.1659.25879
SEQUENCE:3
DTSTAMP:20260421T192525Z
URL:https://business.portsmouthchamber.org/events/details/broadway-bound-raffle-drawing-25879
END:VEVENT

END:VCALENDAR
