BEGIN:VCALENDAR
VERSION:2.0
PRODID:-//ChamberMaster//Event Calendar 2.0//EN
METHOD:PUBLISH
X-PUBLISHED-TTL:P3D
REFRESH-INTERVAL:P3D
CALSCALE:GREGORIAN
BEGIN:VEVENT
DTSTART:20160105T010000Z
DTEND:20160105T040000Z
X-MICROSOFT-CDO-ALLDAYEVENT:FALSE
SUMMARY:Bruce Ferrara Quartet at The Press Room
DESCRIPTION:Bruce Ferrara's quartet features Carlos Averhoff on sax\, Brad Barrett on bass and Karen Kocharyn on drums.\n\n\n\nThis project is a highly interactive somewhat electric jazz band comprised of internationally touring musicians.\n\n\n\nCarlos Averhoff Jr (Havana) has recently put out a new CD on Greg Osby's label. Featuring Osby\n\n\n\nBrad Barrett is finishing his PHD at NEC and is playing between Boston\, NY\, and touring stages..most recently with Juanito Pascual's New Flamenco trio\n\n\n\nKaren Kocharyn (Armenia) is a regular part of Jerry Bregonzi's band and played on Phil Grenadier's latest cd.
X-ALT-DESC;FMTTYPE=text/html:<br />\nBruce Ferrara&#39\;s quartet features Carlos Averhoff on sax\, Brad Barrett on bass and Karen Kocharyn on drums.<br />\n<br />\nThis project is a highly interactive somewhat electric jazz band comprised of internationally touring musicians.<br />\n<br />\nCarlos Averhoff Jr (Havana) has recently put out a new CD on Greg Osby&#39\;s label. Featuring Osby<br />\n<br />\nBrad Barrett is finishing his PHD at NEC and is playing between Boston\, NY\, and touring stages..most recently with Juanito Pascual&#39\;s New Flamenco trio<br />\n<br />\nKaren Kocharyn (Armenia) is a regular part of Jerry Bregonzi&#39\;s band and played on Phil Grenadier&#39\;s latest cd.
LOCATION:The Press Room 77 Daniel Street\, Portsmouth
UID:e.1659.13374
SEQUENCE:3
DTSTAMP:20260420T120845Z
URL:https://business.portsmouthchamber.org/events/details/bruce-ferrara-quartet-at-the-press-room-01-04-2016-13374
END:VEVENT

END:VCALENDAR
