BEGIN:VCALENDAR
VERSION:2.0
PRODID:-//ChamberMaster//Event Calendar 2.0//EN
METHOD:PUBLISH
X-PUBLISHED-TTL:P3D
REFRESH-INTERVAL:P3D
CALSCALE:GREGORIAN
BEGIN:VEVENT
DTSTART:20140711T000000Z
DTEND:20140714T030000Z
X-MICROSOFT-CDO-ALLDAYEVENT:FALSE
SUMMARY:Buddy: The Buddy Holly Story
DESCRIPTION:BROADWAY COMES TO THE HISTORIC PORT\n\nJust announced: Kurt Jenkins\, star of the Ogunquit Playhouse production will return on The Music Hall stage.\n\nDon't miss Preview #1 on Wed.\, July 9 at 8pm or Preview #2 on Thu.\, July 10 at 2pm.\n\nThe most popular musical in Ogunquit Playhouse history comes to The Music Hall Historic Theater! Follow the incredible journey of Buddy's meteoric rise to fame to the top of the record charts during the golden days of rock 'n' roll\, to his untimely death in 1959 in this popular tribute.\n\nYou'll be cheering for more\, with such rousing fifties favorites as "Peggy Sue\," "Oh Boy\," "Maybe Baby\," "That'll Be the Day\," "Raining In My Heart\," Ritchie Valens' "La Bamba" and the Big Bopper's "Chantilly Lace." This joyous celebration of a musical legend will have you dancing in the aisles! \n\nRun Time: 2 hours and 25 minutes with intermission
X-ALT-DESC;FMTTYPE=text/html:<h5 style="font-size: 0.875rem\; line-height: 1.125rem\; margin: 0px 0px 8px\; color: rgb(167\, 121\, 53)\; text-transform: uppercase\; font-family: 'Droid Sans'\, 'Lucida Grande'\, Arial\, sans-serif\;"><span style="color:#000000\;">BROADWAY COMES TO THE HISTORIC PORT</span></h5>\n\n<p style="margin: 0px 0px 15px\; padding: 0px\; color: rgb(102\, 102\, 102)\; font-family: 'Droid Sans'\, 'Lucida Grande'\, Arial\, sans-serif\; font-size: 14px\; line-height: 22px\;"><strong>Just announced: Kurt Jenkins\, star of the Ogunquit Playhouse production will return on The Music Hall stage.</strong></p>\n\n<p style="margin: 0px 0px 15px\; padding: 0px\; color: rgb(102\, 102\, 102)\; font-family: 'Droid Sans'\, 'Lucida Grande'\, Arial\, sans-serif\; font-size: 14px\; line-height: 22px\;">Don&rsquo\;t miss&nbsp\;<a href="http://www.themusichall.org/calendar/event/buddy_the_buddy_holly_story_preview_1" style="color: rgb(170\, 90\, 0)\;">Preview #1 on Wed.\, July 9 at 8pm</a>&nbsp\;or&nbsp\;<a href="http://www.themusichall.org/calendar/event/buddy_the_buddy_holly_story_preview_2" style="color: rgb(170\, 90\, 0)\;">Preview #2 on Thu.\, July 10 at 2pm</a>.</p>\n\n<p style="margin: 0px 0px 15px\; padding: 0px\; color: rgb(102\, 102\, 102)\; font-family: 'Droid Sans'\, 'Lucida Grande'\, Arial\, sans-serif\; font-size: 14px\; line-height: 22px\;">The most popular musical in Ogunquit Playhouse history comes to The Music Hall Historic Theater! Follow the incredible journey of Buddy&rsquo\;s meteoric rise to fame to the top of the record charts during the golden days of rock &lsquo\;n&rsquo\; roll\, to his untimely death in 1959 in this popular tribute.</p>\n\n<p style="margin: 0px 0px 15px\; padding: 0px\; color: rgb(102\, 102\, 102)\; font-family: 'Droid Sans'\, 'Lucida Grande'\, Arial\, sans-serif\; font-size: 14px\; line-height: 22px\;">You&rsquo\;ll be cheering for more\, with such rousing fifties favorites as &ldquo\;Peggy Sue\,&rdquo\; &ldquo\;Oh Boy\,&rdquo\; &ldquo\;Maybe Baby\,&rdquo\; &ldquo\;That&rsquo\;ll Be the Day\,&rdquo\; &ldquo\;Raining In My Heart\,&rdquo\; Ritchie Valens&rsquo\; &ldquo\;La Bamba&rdquo\; and the Big Bopper&rsquo\;s &ldquo\;Chantilly Lace.&rdquo\; This joyous celebration of a musical legend will have you dancing in the aisles!&nbsp\;<br />\n<strong>Run Time: 2 hours and 25 minutes with intermission</strong></p>\n
LOCATION:The Music Hall Historic Theater
UID:e.1659.2169
SEQUENCE:3
DTSTAMP:20260419T190208Z
URL:https://business.portsmouthchamber.org/events/details/buddy-the-buddy-holly-story-07-10-2014-2169
END:VEVENT

END:VCALENDAR
