BEGIN:VCALENDAR
VERSION:2.0
PRODID:-//ChamberMaster//Event Calendar 2.0//EN
METHOD:PUBLISH
X-PUBLISHED-TTL:P3D
REFRESH-INTERVAL:P3D
CALSCALE:GREGORIAN
BEGIN:VEVENT
DTSTART:20130627T210000Z
DTEND:20130627T230000Z
X-MICROSOFT-CDO-ALLDAYEVENT:FALSE
SUMMARY:Business After Hours
DESCRIPTION:Networking\, food\, drinks and entertainment from 5-7pm (cruise from 5:55-7pm).
X-ALT-DESC;FMTTYPE=text/html:Networking\, food\, drinks and entertainment from 5-7pm (cruise from 5:55-7pm).
LOCATION:Isles of Shoals Steamship Company\, 315 Market Street Portsmouth NH Hosted in conjunction with Edible Arrangements.
UID:e.1659.133
SEQUENCE:3
DTSTAMP:20260420T132116Z
URL:https://business.portsmouthchamber.org/events/details/business-after-hours-06-27-2013-133
END:VEVENT

END:VCALENDAR
