BEGIN:VCALENDAR
VERSION:2.0
PRODID:-//ChamberMaster//Event Calendar 2.0//EN
METHOD:PUBLISH
X-PUBLISHED-TTL:P3D
REFRESH-INTERVAL:P3D
CALSCALE:GREGORIAN
BEGIN:VEVENT
DTSTART:20130829T210000Z
DTEND:20130829T230000Z
X-MICROSOFT-CDO-ALLDAYEVENT:FALSE
SUMMARY:Business After Hours
DESCRIPTION:A meet-and-greet event for Chamber members and guests.
X-ALT-DESC;FMTTYPE=text/html:<span style="font-family:arial\;"><span style="font-size: small\; ">A meet-and-greet event for Chamber members and guests.</span></span>\n<div>\n	&nbsp\;</div>\n
LOCATION:The Port Inn\, 505 U.S. 1 Bypass\, Portsmouth\, NH
UID:e.1659.515
SEQUENCE:3
DTSTAMP:20260420T102234Z
URL:https://business.portsmouthchamber.org/events/details/business-after-hours-08-29-2013-515
END:VEVENT

END:VCALENDAR
