BEGIN:VCALENDAR
VERSION:2.0
PRODID:-//ChamberMaster//Event Calendar 2.0//EN
METHOD:PUBLISH
X-PUBLISHED-TTL:P3D
REFRESH-INTERVAL:P3D
CALSCALE:GREGORIAN
BEGIN:VEVENT
DTSTART:20130926T210000Z
DTEND:20130926T230000Z
X-MICROSOFT-CDO-ALLDAYEVENT:FALSE
SUMMARY:Business After Hours
DESCRIPTION:A meet-and-greet event for Chamber members and guests.
X-ALT-DESC;FMTTYPE=text/html:A meet-and-greet event for Chamber members and guests.
LOCATION:Grill 28\, 200 Grafton Road Portsmouth\, NH Also sponsored by C&J Bus Lines
UID:e.1659.516
SEQUENCE:3
DTSTAMP:20260420T090154Z
URL:https://business.portsmouthchamber.org/events/details/business-after-hours-09-26-2013-516
END:VEVENT

END:VCALENDAR
