BEGIN:VCALENDAR
VERSION:2.0
PRODID:-//ChamberMaster//Event Calendar 2.0//EN
METHOD:PUBLISH
X-PUBLISHED-TTL:P3D
REFRESH-INTERVAL:P3D
CALSCALE:GREGORIAN
BEGIN:VEVENT
DTSTART:20131121T220000Z
DTEND:20131122T000000Z
X-MICROSOFT-CDO-ALLDAYEVENT:FALSE
SUMMARY:Business After Hours
DESCRIPTION:A meet-and-greet event for Chamber members and guests.
X-ALT-DESC;FMTTYPE=text/html:<span style="font-family:arial\;"><span style="font-size: small\; ">A meet-and-greet event for Chamber members and guests.</span></span>\n<div>\n	&nbsp\;</div>\n
LOCATION:Axis Business Solutions 53 Green Street Portsmouth\, NH 03801 603.294.4256
UID:e.1659.727
SEQUENCE:3
DTSTAMP:20260420T055905Z
URL:https://business.portsmouthchamber.org/events/details/business-after-hours-11-21-2013-727
END:VEVENT

END:VCALENDAR
