BEGIN:VCALENDAR
VERSION:2.0
PRODID:-//ChamberMaster//Event Calendar 2.0//EN
METHOD:PUBLISH
X-PUBLISHED-TTL:P3D
REFRESH-INTERVAL:P3D
CALSCALE:GREGORIAN
BEGIN:VEVENT
DTSTART:20131015T210000Z
DTEND:20131015T230000Z
X-MICROSOFT-CDO-ALLDAYEVENT:FALSE
SUMMARY:Business After Hours at Axis Business Solutions
DESCRIPTION:A meet-and-greet event for Chamber members and guests.
X-ALT-DESC;FMTTYPE=text/html:A meet-and-greet event for Chamber members and guests.
LOCATION:Axis Business Solutions 536 Green Street Portsmouth\, NH 03801
UID:e.1659.726
SEQUENCE:3
DTSTAMP:20260420T072034Z
URL:https://business.portsmouthchamber.org/events/details/business-after-hours-at-axis-business-solutions-10-15-2013-726
END:VEVENT

END:VCALENDAR
