BEGIN:VCALENDAR
VERSION:2.0
PRODID:-//ChamberMaster//Event Calendar 2.0//EN
METHOD:PUBLISH
X-PUBLISHED-TTL:P3D
REFRESH-INTERVAL:P3D
CALSCALE:GREGORIAN
BEGIN:VEVENT
DTSTART:20140227T220000Z
DTEND:20140228T000000Z
X-MICROSOFT-CDO-ALLDAYEVENT:FALSE
SUMMARY:Business After Hours at Community Campus
DESCRIPTION:A meet-and-greet event for Chamber members and guests. Admission is just a business card.
X-ALT-DESC;FMTTYPE=text/html:A meet-and-greet event for Chamber members and guests. Admission is just a business card.&nbsp\;
LOCATION:100 Campus Drive\, Suite 1\, Portsmouth NH\, 03801 603.422.8200
UID:e.1659.1023
SEQUENCE:3
DTSTAMP:20260420T015952Z
URL:https://business.portsmouthchamber.org/events/details/business-after-hours-at-community-campus-02-27-2014-1023
END:VEVENT

END:VCALENDAR
