BEGIN:VCALENDAR
VERSION:2.0
PRODID:-//ChamberMaster//Event Calendar 2.0//EN
METHOD:PUBLISH
X-PUBLISHED-TTL:P3D
REFRESH-INTERVAL:P3D
CALSCALE:GREGORIAN
BEGIN:VEVENT
DTSTART:20140925T210000Z
DTEND:20140925T230000Z
X-MICROSOFT-CDO-ALLDAYEVENT:FALSE
SUMMARY:Business After Hours at Grill 28
DESCRIPTION:It's time for Grill 28 and Pease Golf Course 3rd annual Greater Portsmouth Chamber business after hours event! Our first two events pulled in hundreds of GPCC members to network\, eat and laugh. This year we will again have delectable hors d'ouerves\, signature drinks\, live music\, a photo booth and more! There will be many non-profit raffles and bring your "A" game for some friendly competition on the simulators. This not to be missed event is co-hosted by our friends at Enterprise Rent-A-Car and we are proud to donate 100% of all the raffle and competition proceeds from this event to 3S Artspace! More details and surprises to come!
X-ALT-DESC;FMTTYPE=text/html:<span style="color: rgb(20\, 24\, 35)\; font-family: Helvetica\, Arial\, 'lucida grande'\, tahoma\, verdana\, arial\, sans-serif\; font-size: 14px\; line-height: 17.9200000762939px\;">It&#39\;s time for Grill 28 and Pease Golf Course 3rd annual Greater Portsmouth Chamber business after hours event! Our first two events pulled in hundreds of GPCC members to network\, eat and laugh. This year we will again have delectable hors d&#39\;ouerves\, signature drinks\, live music\, a photo booth and more! There will be ma</span><span class="text_exposed_show" style="display: inline\; color: rgb(20\, 24\, 35)\; font-family: Helvetica\, Arial\, 'lucida grande'\, tahoma\, verdana\, arial\, sans-serif\; font-size: 14px\; line-height: 17.9200000762939px\;">ny non-profit raffles and bring your &quot\;A&quot\; game for some friendly competition on the simulators. This not to be missed event is co-hosted by our friends at Enterprise Rent-A-Car and we are proud to donate 100% of all the raffle and competition proceeds from this event to 3S Artspace! More details and surprises to come!</span>
LOCATION:
UID:e.1659.2943
SEQUENCE:3
DTSTAMP:20260419T175210Z
URL:https://business.portsmouthchamber.org/events/details/business-after-hours-at-grill-28-09-25-2014-2943
END:VEVENT

END:VCALENDAR
