BEGIN:VCALENDAR
VERSION:2.0
PRODID:-//ChamberMaster//Event Calendar 2.0//EN
METHOD:PUBLISH
X-PUBLISHED-TTL:P3D
REFRESH-INTERVAL:P3D
CALSCALE:GREGORIAN
BEGIN:VEVENT
DTSTART:20140123T220000Z
DTEND:20140124T000000Z
X-MICROSOFT-CDO-ALLDAYEVENT:FALSE
SUMMARY:Business After Hours at Martingale Wharf
DESCRIPTION:A meet-and-greet event for Chamber members and guests. Admission is just a business card.
X-ALT-DESC;FMTTYPE=text/html:A meet-and-greet event for Chamber members and guests. Admission is just a business card.
LOCATION:Martingale Wharf 99 Bow Street Portsmouth\, NH
UID:e.1659.1016
SEQUENCE:3
DTSTAMP:20260420T031744Z
URL:https://business.portsmouthchamber.org/events/details/business-after-hours-at-martingale-wharf-01-23-2014-1016
END:VEVENT

END:VCALENDAR
