BEGIN:VCALENDAR
VERSION:2.0
PRODID:-//ChamberMaster//Event Calendar 2.0//EN
METHOD:PUBLISH
X-PUBLISHED-TTL:P3D
REFRESH-INTERVAL:P3D
CALSCALE:GREGORIAN
BEGIN:VEVENT
DTSTART:20140626T210000Z
DTEND:20140626T230000Z
X-MICROSOFT-CDO-ALLDAYEVENT:FALSE
SUMMARY:Business After Hours at Portsmouth Gas Light Co.
DESCRIPTION:Meet-and-greet event for Chamber members and guests. Admission is just a business card.
X-ALT-DESC;FMTTYPE=text/html:Meet-and-greet event for Chamber members and guests. Admission is just a business card.&nbsp\;
LOCATION:Portsmouth Gas Light Co. 64 Market St Portsmouth\, NH 03801
UID:e.1659.1162
SEQUENCE:3
DTSTAMP:20260419T203144Z
URL:https://business.portsmouthchamber.org/events/details/business-after-hours-at-portsmouth-gas-light-co-06-26-2014-1162
END:VEVENT

END:VCALENDAR
