BEGIN:VCALENDAR
VERSION:2.0
PRODID:-//ChamberMaster//Event Calendar 2.0//EN
METHOD:PUBLISH
X-PUBLISHED-TTL:P3D
REFRESH-INTERVAL:P3D
CALSCALE:GREGORIAN
BEGIN:VEVENT
DTSTART:20150122T220000Z
DTEND:20150123T000000Z
X-MICROSOFT-CDO-ALLDAYEVENT:FALSE
SUMMARY:Business After Hours at SENH Habitat for Humanity Restore
DESCRIPTION:Join us and GET CONNECTED at our monthly networking event.
X-ALT-DESC;FMTTYPE=text/html:Join us and GET CONNECTED at our monthly networking event.
LOCATION:29 Fox Run Road Newington\, NH 03801
UID:e.1659.4034
SEQUENCE:3
DTSTAMP:20260419T115231Z
URL:https://business.portsmouthchamber.org/events/details/business-after-hours-at-senh-habitat-for-humanity-restore-01-22-2015-4034
END:VEVENT

END:VCALENDAR
