BEGIN:VCALENDAR
VERSION:2.0
PRODID:-//ChamberMaster//Event Calendar 2.0//EN
METHOD:PUBLISH
X-PUBLISHED-TTL:P3D
REFRESH-INTERVAL:P3D
CALSCALE:GREGORIAN
BEGIN:VEVENT
DTSTART:20140327T210000Z
DTEND:20140327T230000Z
X-MICROSOFT-CDO-ALLDAYEVENT:FALSE
SUMMARY:Business After Hours at TD Bank
DESCRIPTION:A meet-and-greet event for Chamber members and guests. Admission is just a business card. Featuring: Food\, Beverages\, Raffles and live music provided by the Triple Threat Band!\n\n\n\nPlenty of room and parking for everyone!
X-ALT-DESC;FMTTYPE=text/html:<span style="font-family:arial\;">A meet-and-greet event for Chamber members and guests. Admission is just a business card. Featuring: Food\, Beverages\, Raffles and live music provided by the Triple Threat Band!<br />\n<br />\nPlenty of room and parking for everyone!</span><br />\n<br />\n&nbsp\;<br />\n<br />\n<br />\n&nbsp\;
LOCATION:TD Bank North 333 State Street Portsmouth\, NH 03801
UID:e.1659.1157
SEQUENCE:3
DTSTAMP:20260420T003730Z
URL:https://business.portsmouthchamber.org/events/details/business-after-hours-at-td-bank-03-27-2014-1157
END:VEVENT

END:VCALENDAR
