BEGIN:VCALENDAR
VERSION:2.0
PRODID:-//ChamberMaster//Event Calendar 2.0//EN
METHOD:PUBLISH
X-PUBLISHED-TTL:P3D
REFRESH-INTERVAL:P3D
CALSCALE:GREGORIAN
BEGIN:VEVENT
DTSTART:20140724T210000Z
DTEND:20140724T230000Z
X-MICROSOFT-CDO-ALLDAYEVENT:FALSE
SUMMARY:Business After Hours at the Port Inn
DESCRIPTION:Don't miss this amazing networking event! The Port Inn will host the July Business After Hours again this year in support of Portsmouth Youth Cheer. This year's theme is Throwback Thursday\, stay tuned for what that means!
X-ALT-DESC;FMTTYPE=text/html:Don&#39\;t miss this amazing networking event! The Port Inn will host the July Business After Hours again this year&nbsp\;in support of Portsmouth Youth Cheer. This year&#39\;s theme is Throwback Thursday\, stay tuned for what that means! &nbsp\; &nbsp\;<br />\n&nbsp\;&nbsp\;&nbsp\;&nbsp\;&nbsp\;&nbsp\;&nbsp\;&nbsp\;
LOCATION:505 Us Highway 1 Byp Portsmouth\, New Hampshire
UID:e.1659.2195
SEQUENCE:3
DTSTAMP:20260419T190535Z
URL:https://business.portsmouthchamber.org/events/details/business-after-hours-at-the-port-inn-07-24-2014-2195
END:VEVENT

END:VCALENDAR
