BEGIN:VCALENDAR
VERSION:2.0
PRODID:-//ChamberMaster//Event Calendar 2.0//EN
METHOD:PUBLISH
X-PUBLISHED-TTL:P3D
REFRESH-INTERVAL:P3D
CALSCALE:GREGORIAN
BEGIN:VEVENT
DTSTART:20141023T210000Z
DTEND:20141023T230000Z
X-MICROSOFT-CDO-ALLDAYEVENT:FALSE
SUMMARY:Business After Hours at the Residences at Port Walk
DESCRIPTION:
X-ALT-DESC;FMTTYPE=text/html:
LOCATION:
UID:e.1659.3004
SEQUENCE:3
DTSTAMP:20260419T144629Z
URL:https://business.portsmouthchamber.org/events/details/business-after-hours-at-the-residences-at-port-walk-10-23-2014-3004
END:VEVENT

END:VCALENDAR
