BEGIN:VCALENDAR
VERSION:2.0
PRODID:-//ChamberMaster//Event Calendar 2.0//EN
METHOD:PUBLISH
X-PUBLISHED-TTL:P3D
REFRESH-INTERVAL:P3D
CALSCALE:GREGORIAN
BEGIN:VEVENT
DTSTART:20140424T210000Z
DTEND:20140424T230000Z
X-MICROSOFT-CDO-ALLDAYEVENT:FALSE
SUMMARY:Business After Hours at White Apron
DESCRIPTION:A meet-and-greet event for Chamber members and guests. Admission is just a business card.
X-ALT-DESC;FMTTYPE=text/html:A meet-and-greet event for Chamber members and guests. Admission is just a business card.
LOCATION:The White Apron Cafe 14 Hancock St\, Portsmouth\, NH 03801
UID:e.1659.1158
SEQUENCE:3
DTSTAMP:20260419T231154Z
URL:https://business.portsmouthchamber.org/events/details/business-after-hours-at-white-apron-04-24-2014-1158
END:VEVENT

END:VCALENDAR
