BEGIN:VCALENDAR
VERSION:2.0
PRODID:-//ChamberMaster//Event Calendar 2.0//EN
METHOD:PUBLISH
X-PUBLISHED-TTL:P3D
REFRESH-INTERVAL:P3D
CALSCALE:GREGORIAN
BEGIN:VEVENT
DTSTART:20161027T210000Z
DTEND:20161027T230000Z
X-MICROSOFT-CDO-ALLDAYEVENT:FALSE
SUMMARY:Business After Hours: Optima Bank & Trust and HAVEN
DESCRIPTION:Monthly networking event.
X-ALT-DESC;FMTTYPE=text/html:Monthly networking event.
LOCATION:Optima Bank & Trust and HAVEN Pease Tradeport Portsmouth\, NH
UID:e.1659.19298
SEQUENCE:3
DTSTAMP:20260421T225515Z
URL:https://business.portsmouthchamber.org/events/details/business-after-hours-optima-bank-trust-and-haven-10-27-2016-19298
END:VEVENT

END:VCALENDAR
