BEGIN:VCALENDAR
VERSION:2.0
PRODID:-//ChamberMaster//Event Calendar 2.0//EN
METHOD:PUBLISH
X-PUBLISHED-TTL:P3D
REFRESH-INTERVAL:P3D
CALSCALE:GREGORIAN
BEGIN:VEVENT
DTSTART:20161117T220000Z
DTEND:20161118T000000Z
X-MICROSOFT-CDO-ALLDAYEVENT:FALSE
SUMMARY:Business After Hours: Stage Neck Inn
DESCRIPTION:Enjoy passed hors d'oeuvres with soft piano tunes and beautiful ocean views as a backdrop. Be sure to tour the property and admire the beautiful renovations.
X-ALT-DESC;FMTTYPE=text/html:Enjoy passed hors d&#39\;oeuvres with soft piano tunes and beautiful ocean views as a backdrop. Be sure to tour the property and admire the beautiful renovations.
LOCATION:Stage Neck Inn 8 Stage Neck Road York\, ME
UID:e.1659.19299
SEQUENCE:3
DTSTAMP:20260421T212840Z
URL:https://business.portsmouthchamber.org/events/details/business-after-hours-stage-neck-inn-11-17-2016-19299
END:VEVENT

END:VCALENDAR
