BEGIN:VCALENDAR
VERSION:2.0
PRODID:-//ChamberMaster//Event Calendar 2.0//EN
METHOD:PUBLISH
X-PUBLISHED-TTL:P3D
REFRESH-INTERVAL:P3D
CALSCALE:GREGORIAN
BEGIN:VEVENT
DTSTART:20161110T190000Z
DTEND:20161110T220000Z
X-MICROSOFT-CDO-ALLDAYEVENT:FALSE
SUMMARY:Caregiving for a loved one with Alzheimer?s
DESCRIPTION:Cornerstone VNA is pleased to provide caregivers with support and education through our Caregivers Connect series.  Join us for our next Caregivers Connect event on November 10th at the Portsmouth Public Library.  Trained staff and volunteers from Cornerstone VNA will be providing on-site respite care\, in a safe and welcoming environment\, for caregivers who wish to attend the event.  The keynote speaker is A. Michael Bloom\, Author of The Accidental Caregiver's Survival Guide: Your Roadmap to Caregiving without Regret. Special presentation by Ann Marie Olsen-Hayward\, LICSW\, Geriatric Psychiatry\, Frisbie Memorial Hospital and Jenna Arsenault\, RN\, MSW\, Behavioral Health Nurse\, Cornerstone VNA. The event will conclude with a panel discussion with Michael Bloom\, Ann Marie Olsen-Hayward\, Jenna Arsenault and health experts from Cornerstone VNA.
X-ALT-DESC;FMTTYPE=text/html:Cornerstone VNA is pleased to provide caregivers with support and education through our Caregivers Connect series. &nbsp\;Join us for our next Caregivers Connect event on November 10th at the Portsmouth Public Library. &nbsp\;Trained staff and volunteers from Cornerstone VNA will be providing on-site respite care\, in a safe and welcoming environment\, for caregivers who wish to attend the event. &nbsp\;The keynote speaker is A. Michael Bloom\, Author of The Accidental Caregiver&rsquo\;s Survival Guide: Your Roadmap to Caregiving without Regret. Special presentation by Ann Marie Olsen-Hayward\, LICSW\, Geriatric Psychiatry\, Frisbie Memorial Hospital and Jenna Arsenault\, RN\, MSW\, Behavioral Health Nurse\, Cornerstone VNA. The event will conclude with a panel discussion with Michael Bloom\, Ann Marie Olsen-Hayward\, Jenna Arsenault and health experts from Cornerstone VNA.
LOCATION:Portsmouth Public Library 175 Parrott Ave Portsmouth\, NH
UID:e.1659.27699
SEQUENCE:3
DTSTAMP:20260421T211702Z
URL:https://business.portsmouthchamber.org/events/details/caregiving-for-a-loved-one-with-alzheimer-s-27699
END:VEVENT

END:VCALENDAR
