BEGIN:VCALENDAR
VERSION:2.0
PRODID:-//ChamberMaster//Event Calendar 2.0//EN
METHOD:PUBLISH
X-PUBLISHED-TTL:P3D
REFRESH-INTERVAL:P3D
CALSCALE:GREGORIAN
BEGIN:VEVENT
DTSTART:20160308T010000Z
DTEND:20160308T030000Z
X-MICROSOFT-CDO-ALLDAYEVENT:FALSE
SUMMARY:Carlos Averhoff Jr.
DESCRIPTION:Carlos Averhoff Jr is a Latin Grammy nominated Cuban tenor saxophonist\, contemporary Afro-Cuban Jazz composer and educator. All About Jazz names Carlos "a dynamic fresh new voice on the saxophone" and Latin Jazz Network portrays his playing as "quite extraordinarily expressive and beautiful\," further adding\, "Carlos Averhoff Jr is a musician who is renowned as a virtuoso soloist."\n\n\n\nBorn in Havana\, Cuba\, Carlos first encounter with music was through his mother's womb by the hands of his father\, legendary saxophonist and member of Chucho Valdes's Irakere\, Carlos Averhoff. Classically trained in Cuba's top music schools - Manuel Saumel Conservatory of Music\, Amadeo Roldan School of Music and Havana's Superior Institute of Art   Carlos continued his education in the United States earning Suma cum Laude Honors at Berklee College of Music and a Master's Degree with Honors from the prestigious New England Conservatory of Music.
X-ALT-DESC;FMTTYPE=text/html:Carlos Averhoff Jr is a Latin Grammy nominated Cuban tenor saxophonist\, contemporary Afro-Cuban Jazz composer and educator. All About Jazz names Carlos &quot\;a dynamic fresh new voice on the saxophone&rdquo\; and Latin Jazz Network portrays his playing as &ldquo\;quite extraordinarily expressive and beautiful\,&rdquo\; further adding\, &ldquo\;Carlos Averhoff Jr is a musician who is renowned as a virtuoso soloist.&rdquo\;<br />\n<br />\nBorn in Havana\, Cuba\, Carlos first encounter with music was through his mother&rsquo\;s womb by the hands of his father\, legendary saxophonist and member of Chucho Valdes&rsquo\;s Irakere\, Carlos Averhoff. Classically trained in Cuba&rsquo\;s top music schools - Manuel Saumel Conservatory of Music\, Amadeo Roldan School of Music and Havana&rsquo\;s Superior Institute of Art &ndash\; Carlos continued his education in the United States earning Suma cum Laude Honors at Berklee College of Music and a Master&rsquo\;s Degree with Honors from the prestigious New England Conservatory of Music.
LOCATION:The Press Room 77 Daniel Street\, Portsmouth
UID:e.1659.18190
SEQUENCE:3
DTSTAMP:20260420T144720Z
URL:https://business.portsmouthchamber.org/events/details/carlos-averhoff-jr-03-07-2016-18190
END:VEVENT

END:VCALENDAR
