BEGIN:VCALENDAR
VERSION:2.0
PRODID:-//ChamberMaster//Event Calendar 2.0//EN
METHOD:PUBLISH
X-PUBLISHED-TTL:P3D
REFRESH-INTERVAL:P3D
CALSCALE:GREGORIAN
BEGIN:VEVENT
DTSTART:20140815T150000Z
DTEND:20140815T190000Z
X-MICROSOFT-CDO-ALLDAYEVENT:FALSE
SUMMARY:Catapults & Slingshots Day
DESCRIPTION:Special Event where kids can learn to make catapults and slingshots with the help of museum educators. Staff-led demonstrations held outside of the museum\, weather permitting\, at 11am\, 12pm\, 1 pm and 2pm. All slingshots and catapults activities are included in regular paid admission and free for museum members.
X-ALT-DESC;FMTTYPE=text/html:Special Event where kids can learn to make catapults and slingshots with the help of museum educators. Staff-led demonstrations held outside of the museum\, weather permitting\, at 11am\, 12pm\, 1 pm and 2pm. All slingshots and catapults activities are included in regular paid admission and free for museum members.
LOCATION:Children's Museum of New Hampshire\, 6 Washington Street\, Dover.
UID:e.1659.2807
SEQUENCE:3
DTSTAMP:20260419T174320Z
URL:https://business.portsmouthchamber.org/events/details/catapults-slingshots-day-08-15-2014-2807
END:VEVENT

END:VCALENDAR
